BEGIN:VCALENDAR
VERSION:2.0
PRODID:-//Alpha Dog Events - ECPv6.15.18//NONSGML v1.0//EN
CALSCALE:GREGORIAN
METHOD:PUBLISH
X-ORIGINAL-URL:https://myalphadog.net
X-WR-CALDESC:Events for Alpha Dog Events
REFRESH-INTERVAL;VALUE=DURATION:PT1H
X-Robots-Tag:noindex
X-PUBLISHED-TTL:PT1H
BEGIN:VTIMEZONE
TZID:UTC
BEGIN:STANDARD
TZOFFSETFROM:+0000
TZOFFSETTO:+0000
TZNAME:UTC
DTSTART:20250101T000000
END:STANDARD
END:VTIMEZONE
BEGIN:VEVENT
DTSTART;TZID=UTC:20260710T150000
DTEND;TZID=UTC:20260710T183000
DTSTAMP:20260421T221246
CREATED:20260326T193900Z
LAST-MODIFIED:20260326T193900Z
UID:988-1783695600-1783708200@myalphadog.net
SUMMARY:Bark Markets by the Madison Green
DESCRIPTION:Join us every Friday at the First Congregational Church\, just across from the Madison Farmers Market for an afternoon of tail-wagging fun! Enjoy Alpha Dog Fun Runs\, browse local vendors with dog products and services\, and connect with fellow dog lovers. Every Friday is a new chance for pups and people to play\, shop\, and explore together!
URL:https://myalphadog.net/event/bark-markets-by-the-madison-green-24/
LOCATION:First Congregational Church\, 26 Meetinghouse Ln\, Madison\, CT\, 06443\, United States
ATTACH;FMTTYPE=image/png:https://myalphadog.net/wp-content/uploads/2026/03/Madison-Bark-Market-2026.png
END:VEVENT
BEGIN:VEVENT
DTSTART;TZID=UTC:20260717T150000
DTEND;TZID=UTC:20260717T183000
DTSTAMP:20260421T221246
CREATED:20260326T193959Z
LAST-MODIFIED:20260326T193959Z
UID:990-1784300400-1784313000@myalphadog.net
SUMMARY:Bark Markets by the Madison Green
DESCRIPTION:Join us every Friday at the First Congregational Church\, just across from the Madison Farmers Market for an afternoon of tail-wagging fun! Enjoy Alpha Dog Fun Runs\, browse local vendors with dog products and services\, and connect with fellow dog lovers. Every Friday is a new chance for pups and people to play\, shop\, and explore together!
URL:https://myalphadog.net/event/bark-markets-by-the-madison-green-25/
LOCATION:First Congregational Church\, 26 Meetinghouse Ln\, Madison\, CT\, 06443\, United States
ATTACH;FMTTYPE=image/png:https://myalphadog.net/wp-content/uploads/2026/03/Madison-Bark-Market-2026.png
END:VEVENT
BEGIN:VEVENT
DTSTART;TZID=UTC:20260724T150000
DTEND;TZID=UTC:20260724T183000
DTSTAMP:20260421T221246
CREATED:20260326T194026Z
LAST-MODIFIED:20260326T194026Z
UID:992-1784905200-1784917800@myalphadog.net
SUMMARY:Bark Markets by the Madison Green
DESCRIPTION:Join us every Friday at the First Congregational Church\, just across from the Madison Farmers Market for an afternoon of tail-wagging fun! Enjoy Alpha Dog Fun Runs\, browse local vendors with dog products and services\, and connect with fellow dog lovers. Every Friday is a new chance for pups and people to play\, shop\, and explore together!
URL:https://myalphadog.net/event/bark-markets-by-the-madison-green-26/
LOCATION:First Congregational Church\, 26 Meetinghouse Ln\, Madison\, CT\, 06443\, United States
ATTACH;FMTTYPE=image/png:https://myalphadog.net/wp-content/uploads/2026/03/Madison-Bark-Market-2026.png
END:VEVENT
BEGIN:VEVENT
DTSTART;TZID=UTC:20260731T150000
DTEND;TZID=UTC:20260731T183000
DTSTAMP:20260421T221246
CREATED:20260326T194051Z
LAST-MODIFIED:20260326T194051Z
UID:994-1785510000-1785522600@myalphadog.net
SUMMARY:Bark Markets by the Madison Green
DESCRIPTION:Join us every Friday at the First Congregational Church\, just across from the Madison Farmers Market for an afternoon of tail-wagging fun! Enjoy Alpha Dog Fun Runs\, browse local vendors with dog products and services\, and connect with fellow dog lovers. Every Friday is a new chance for pups and people to play\, shop\, and explore together!
URL:https://myalphadog.net/event/bark-markets-by-the-madison-green-27/
LOCATION:First Congregational Church\, 26 Meetinghouse Ln\, Madison\, CT\, 06443\, United States
ATTACH;FMTTYPE=image/png:https://myalphadog.net/wp-content/uploads/2026/03/Madison-Bark-Market-2026.png
END:VEVENT
END:VCALENDAR