BEGIN:VCALENDAR
VERSION:2.0
PRODID:-//Alpha Dog Events - ECPv6.15.18//NONSGML v1.0//EN
CALSCALE:GREGORIAN
METHOD:PUBLISH
X-WR-CALNAME:Alpha Dog Events
X-ORIGINAL-URL:https://myalphadog.net
X-WR-CALDESC:Events for Alpha Dog Events
REFRESH-INTERVAL;VALUE=DURATION:PT1H
X-Robots-Tag:noindex
X-PUBLISHED-TTL:PT1H
BEGIN:VTIMEZONE
TZID:UTC
BEGIN:STANDARD
TZOFFSETFROM:+0000
TZOFFSETTO:+0000
TZNAME:UTC
DTSTART:20250101T000000
END:STANDARD
END:VTIMEZONE
BEGIN:VEVENT
DTSTART;VALUE=DATE:20260927
DTEND;VALUE=DATE:20260928
DTSTAMP:20260422T021705
CREATED:20260212T210604Z
LAST-MODIFIED:20260212T210914Z
UID:937-1790467200-1790553599@myalphadog.net
SUMMARY:Puttin' On The Dog
DESCRIPTION:
URL:https://myalphadog.net/event/puttin-on-the-dog/
LOCATION:CT
END:VEVENT
END:VCALENDAR