BEGIN:VCALENDAR
VERSION:2.0
PRODID:-//Alpha Dog Events - ECPv6.15.18//NONSGML v1.0//EN
CALSCALE:GREGORIAN
METHOD:PUBLISH
X-WR-CALNAME:Alpha Dog Events
X-ORIGINAL-URL:https://myalphadog.net
X-WR-CALDESC:Events for Alpha Dog Events
REFRESH-INTERVAL;VALUE=DURATION:PT1H
X-Robots-Tag:noindex
X-PUBLISHED-TTL:PT1H
BEGIN:VTIMEZONE
TZID:UTC
BEGIN:STANDARD
TZOFFSETFROM:+0000
TZOFFSETTO:+0000
TZNAME:UTC
DTSTART:20250101T000000
END:STANDARD
END:VTIMEZONE
BEGIN:VEVENT
DTSTART;VALUE=DATE:20260606
DTEND;VALUE=DATE:20260607
DTSTAMP:20260421T220412
CREATED:20260212T211315Z
LAST-MODIFIED:20260212T211315Z
UID:943-1780704000-1780790399@myalphadog.net
SUMMARY:Madison Lions Day
DESCRIPTION:
URL:https://myalphadog.net/event/madison-lions-day/
LOCATION:Madison CT
END:VEVENT
END:VCALENDAR